BEGIN:VCALENDAR
VERSION:2.0
PRODID:-//wp-events-plugin.com//7.2.3.1//EN
TZID:Europe/Berlin
X-WR-TIMEZONE:Europe/Berlin
BEGIN:VEVENT
UID:6@rocklounge-leipzig.de
DTSTART;TZID=Europe/Berlin:20190413T190000
DTEND;TZID=Europe/Berlin:20190413T233000
DTSTAMP:20200103T205915Z
URL:https://rocklounge-leipzig.de/termine/best-of-rock-ii/
SUMMARY:Best of Rock II
DESCRIPTION:[rl_gallery id="167"]\n\nLineup:\n\n 	Bar De Monjas (Leipzig)\
 n 	Mount Fuji (Leipzig)\n 	Cannon Club (Halle)\n\n2. Teil zur Veranstaltun
 gsreihe\, diesmal mit dem Powerduo BAR DE MONJAS (unglaublich was 2 Mann a
 uf der Bühne leisten können)\, den urgewaltigen Bergbezwingern von MOUNT
  FUJI und dem durchaus zu Recht spielenden Headliner CANNON CLUB. Rock pur
  der allerersten Güteklasse!!\n\n[rl_gallery id="195"]\n\n&nbsp\;\n\n
END:VEVENT
BEGIN:VTIMEZONE
TZID:Europe/Berlin
X-LIC-LOCATION:Europe/Berlin
BEGIN:DAYLIGHT
DTSTART:20190331T030000
TZOFFSETFROM:+0100
TZOFFSETTO:+0200
TZNAME:CEST
END:DAYLIGHT
END:VTIMEZONE
END:VCALENDAR