BEGIN:VCALENDAR
VERSION:2.0
PRODID:-//wp-events-plugin.com//7.2.3.1//EN
TZID:Europe/Berlin
X-WR-TIMEZONE:Europe/Berlin
BEGIN:VEVENT
UID:5@rocklounge-leipzig.de
DTSTART;TZID=Europe/Berlin:20190824T190000
DTEND;TZID=Europe/Berlin:20190824T233000
DTSTAMP:20200110T213936Z
URL:https://rocklounge-leipzig.de/termine/chopper-revival-open-air-2019/
SUMMARY:Chopper-Revival Open Air 2019
DESCRIPTION:[rl_gallery id="163"]\n\nLineup:\n\n 	Factory Under Cover (Leip
 zig)\n 	Flecke &amp\; Co (Leipzig)\n\nUnser 1. selbst organisiertes Open A
 ir im SR. Somit war auch der komplette Bühnenbau Neuland für uns. Aber m
 it vielen Ideen und tatkräftiger Unterstützung\, haben wir auch das geme
 istert. Unser besonderer Dank gilt hierbei der Oper Leipzig\, die uns die 
 Bühne zur Verfügung gestellt hat und "Pfaude" vom LSV Südwest\, für di
 e Leihgabe zahlreicher Sitzgarnituren und anderer notwendiger Dinge. Mit e
 in paar Bildern wollen wir Euch nun daran teilhaben lassen. Danach folgen 
 noch diverse Bilder vom gelungenen Event. Wer es verpasst hat\, sollte sic
 h das diesjährige Chopper-Revival Open Air nicht entgehen lassen \;)\n\n[
 rl_gallery id="532"]\n\n[rl_gallery id="477"]\n\n﻿\n\n﻿
END:VEVENT
BEGIN:VTIMEZONE
TZID:Europe/Berlin
X-LIC-LOCATION:Europe/Berlin
BEGIN:DAYLIGHT
DTSTART:20190331T030000
TZOFFSETFROM:+0100
TZOFFSETTO:+0200
TZNAME:CEST
END:DAYLIGHT
END:VTIMEZONE
END:VCALENDAR